BEGIN:VCALENDAR
VERSION:2.0
PRODID:-//Blackwood Golf Club - ECPv5.0.1//NONSGML v1.0//EN
CALSCALE:GREGORIAN
METHOD:PUBLISH
X-WR-CALNAME:Blackwood Golf Club
X-ORIGINAL-URL:https://www.blackwoodgolf.com.au
X-WR-CALDESC:Events for Blackwood Golf Club
BEGIN:VTIMEZONE
TZID:Australia/Adelaide
BEGIN:STANDARD
TZOFFSETFROM:+1030
TZOFFSETTO:+0930
TZNAME:ACST
DTSTART:20200404T163000
END:STANDARD
BEGIN:DAYLIGHT
TZOFFSETFROM:+0930
TZOFFSETTO:+1030
TZNAME:ACDT
DTSTART:20201003T163000
END:DAYLIGHT
END:VTIMEZONE
BEGIN:VEVENT
DTSTART;TZID=Australia/Adelaide:20200217T000000
DTEND;TZID=Australia/Adelaide:20200217T235959
DTSTAMP:20200301T164447
CREATED:20200109T050908Z
LAST-MODIFIED:20200217T191122Z
UID:10750-1581897600-1581983999@www.blackwoodgolf.com.au
SUMMARY:Stableford
DESCRIPTION:
URL:https://www.blackwoodgolf.com.au/event/stableford-54/
END:VEVENT
BEGIN:VEVENT
DTSTART;TZID=Australia/Adelaide:20200217T000000
DTEND;TZID=Australia/Adelaide:20200217T235959
DTSTAMP:20200301T164447
CREATED:20200120T044137Z
LAST-MODIFIED:20200217T233629Z
UID:11183-1581897600-1581983999@www.blackwoodgolf.com.au
SUMMARY:Senior Order of Merrit
DESCRIPTION:Chris Claxton\n12 noon \n
URL:https://www.blackwoodgolf.com.au/event/senior-order-of-merrit/
END:VEVENT
END:VCALENDAR