BEGIN:VCALENDAR
VERSION:2.0
PRODID:-//Blackwood Golf Club - ECPv5.0.1//NONSGML v1.0//EN
CALSCALE:GREGORIAN
METHOD:PUBLISH
X-WR-CALNAME:Blackwood Golf Club
X-ORIGINAL-URL:https://www.blackwoodgolf.com.au
X-WR-CALDESC:Events for Blackwood Golf Club
BEGIN:VTIMEZONE
TZID:Australia/Adelaide
BEGIN:STANDARD
TZOFFSETFROM:+1030
TZOFFSETTO:+0930
TZNAME:ACST
DTSTART:20200404T163000
END:STANDARD
BEGIN:DAYLIGHT
TZOFFSETFROM:+0930
TZOFFSETTO:+1030
TZNAME:ACDT
DTSTART:20201003T163000
END:DAYLIGHT
END:VTIMEZONE
BEGIN:VEVENT
DTSTART;VALUE=DATE:20200213
DTEND;VALUE=DATE:20200214
DTSTAMP:20200301T163609
CREATED:20190220T044603Z
LAST-MODIFIED:20190220T044603Z
UID:5755-1581552000-1581638399@www.blackwoodgolf.com.au
SUMMARY:3pm Twilight
DESCRIPTION:
URL:https://www.blackwoodgolf.com.au/event/3pm-twilight/2020-02-13/
CATEGORIES:Social Event
END:VEVENT
BEGIN:VEVENT
DTSTART;TZID=Australia/Adelaide:20200213T000000
DTEND;TZID=Australia/Adelaide:20200213T235959
DTSTAMP:20200301T163609
CREATED:20200109T050907Z
LAST-MODIFIED:20200213T230700Z
UID:10743-1581552000-1581638399@www.blackwoodgolf.com.au
SUMMARY:Stableford
DESCRIPTION:
URL:https://www.blackwoodgolf.com.au/event/stableford-13/
END:VEVENT
BEGIN:VEVENT
DTSTART;TZID=Australia/Adelaide:20200213T153000
DTEND;TZID=Australia/Adelaide:20200213T203000
DTSTAMP:20200301T163609
CREATED:20200109T050908Z
LAST-MODIFIED:20200213T230700Z
UID:10744-1581607800-1581625800@www.blackwoodgolf.com.au
SUMMARY:Twilight Golf and Jackpot Raffle
DESCRIPTION:
URL:https://www.blackwoodgolf.com.au/event/twilight-golf-and-jackpot-raffle-6/
END:VEVENT
END:VCALENDAR