BEGIN:VCALENDAR
VERSION:2.0
PRODID:-//Blackwood Golf Club - ECPv5.0.1//NONSGML v1.0//EN
CALSCALE:GREGORIAN
METHOD:PUBLISH
X-WR-CALNAME:Blackwood Golf Club
X-ORIGINAL-URL:https://www.blackwoodgolf.com.au
X-WR-CALDESC:Events for Blackwood Golf Club
BEGIN:VTIMEZONE
TZID:Australia/Adelaide
BEGIN:STANDARD
TZOFFSETFROM:+1030
TZOFFSETTO:+0930
TZNAME:ACST
DTSTART:20200404T163000
END:STANDARD
BEGIN:DAYLIGHT
TZOFFSETFROM:+0930
TZOFFSETTO:+1030
TZNAME:ACDT
DTSTART:20201003T163000
END:DAYLIGHT
END:VTIMEZONE
BEGIN:VEVENT
DTSTART;TZID=Australia/Adelaide:20200209T000000
DTEND;TZID=Australia/Adelaide:20200209T235959
DTSTAMP:20200301T162848
CREATED:20200109T050907Z
LAST-MODIFIED:20200209T225504Z
UID:10739-1581206400-1581292799@www.blackwoodgolf.com.au
SUMMARY:Birthday Waltz Social Event
DESCRIPTION:
URL:https://www.blackwoodgolf.com.au/event/birthday-waltz-social-event/
END:VEVENT
BEGIN:VEVENT
DTSTART;TZID=Australia/Adelaide:20200209T000000
DTEND;TZID=Australia/Adelaide:20200209T235959
DTSTAMP:20200301T162848
CREATED:20200109T050907Z
LAST-MODIFIED:20200209T225504Z
UID:10740-1581206400-1581292799@www.blackwoodgolf.com.au
SUMMARY:Stableford
DESCRIPTION:
URL:https://www.blackwoodgolf.com.au/event/stableford-11/
END:VEVENT
END:VCALENDAR