BEGIN:VCALENDAR
VERSION:2.0
PRODID:-//Blackwood Golf Club - ECPv5.0.1//NONSGML v1.0//EN
CALSCALE:GREGORIAN
METHOD:PUBLISH
X-WR-CALNAME:Blackwood Golf Club
X-ORIGINAL-URL:https://www.blackwoodgolf.com.au
X-WR-CALDESC:Events for Blackwood Golf Club
BEGIN:VTIMEZONE
TZID:Australia/Adelaide
BEGIN:STANDARD
TZOFFSETFROM:+1030
TZOFFSETTO:+0930
TZNAME:ACST
DTSTART:20200404T163000
END:STANDARD
BEGIN:DAYLIGHT
TZOFFSETFROM:+0930
TZOFFSETTO:+1030
TZNAME:ACDT
DTSTART:20201003T163000
END:DAYLIGHT
END:VTIMEZONE
BEGIN:VEVENT
DTSTART;TZID=Australia/Adelaide:20200208T000000
DTEND;TZID=Australia/Adelaide:20200208T235959
DTSTAMP:20200301T162500
CREATED:20200109T005219Z
LAST-MODIFIED:20200208T232405Z
UID:10690-1581120000-1581206399@www.blackwoodgolf.com.au
SUMMARY:Men Stroke | Women | Gold Tees Stableford
DESCRIPTION:
URL:https://www.blackwoodgolf.com.au/event/men-stroke-women-gold-tees-stableford-2/
END:VEVENT
BEGIN:VEVENT
DTSTART;TZID=Australia/Adelaide:20200208T000000
DTEND;TZID=Australia/Adelaide:20200208T235959
DTSTAMP:20200301T162500
CREATED:20200109T050908Z
LAST-MODIFIED:20200208T232405Z
UID:10747-1581120000-1581206399@www.blackwoodgolf.com.au
SUMMARY:Qualifying Round Senior Club Championships
DESCRIPTION:
URL:https://www.blackwoodgolf.com.au/event/qualifying-round-senior-club-championships/
END:VEVENT
BEGIN:VEVENT
DTSTART;TZID=Australia/Adelaide:20200208T000000
DTEND;TZID=Australia/Adelaide:20200208T235959
DTSTAMP:20200301T162500
CREATED:20200115T004354Z
LAST-MODIFIED:20200208T232405Z
UID:11055-1581120000-1581206399@www.blackwoodgolf.com.au
SUMMARY:Captain's Ecelectic
DESCRIPTION:
URL:https://www.blackwoodgolf.com.au/event/captains-ecelectic-4/
END:VEVENT
END:VCALENDAR