BEGIN:VCALENDAR
VERSION:2.0
PRODID:-//Blackwood Golf Club - ECPv5.0.1//NONSGML v1.0//EN
CALSCALE:GREGORIAN
METHOD:PUBLISH
X-WR-CALNAME:Blackwood Golf Club
X-ORIGINAL-URL:https://www.blackwoodgolf.com.au
X-WR-CALDESC:Events for Blackwood Golf Club
BEGIN:VTIMEZONE
TZID:Australia/Adelaide
BEGIN:STANDARD
TZOFFSETFROM:+1030
TZOFFSETTO:+0930
TZNAME:ACST
DTSTART:20200404T163000
END:STANDARD
BEGIN:DAYLIGHT
TZOFFSETFROM:+0930
TZOFFSETTO:+1030
TZNAME:ACDT
DTSTART:20201003T163000
END:DAYLIGHT
END:VTIMEZONE
BEGIN:VEVENT
DTSTART;VALUE=DATE:20200206
DTEND;VALUE=DATE:20200207
DTSTAMP:20200301T162035
CREATED:20190220T044603Z
LAST-MODIFIED:20190220T044603Z
UID:5754-1580947200-1581033599@www.blackwoodgolf.com.au
SUMMARY:3pm Twilight
DESCRIPTION:
URL:https://www.blackwoodgolf.com.au/event/3pm-twilight/2020-02-06/
CATEGORIES:Social Event
END:VEVENT
BEGIN:VEVENT
DTSTART;TZID=Australia/Adelaide:20200206T000000
DTEND;TZID=Australia/Adelaide:20200206T235959
DTSTAMP:20200301T162035
CREATED:20200108T060246Z
LAST-MODIFIED:20200206T235516Z
UID:10618-1580947200-1581033599@www.blackwoodgolf.com.au
SUMMARY:Stableford
DESCRIPTION:
URL:https://www.blackwoodgolf.com.au/event/stableford-49/
END:VEVENT
BEGIN:VEVENT
DTSTART;TZID=Australia/Adelaide:20200206T153000
DTEND;TZID=Australia/Adelaide:20200206T203000
DTSTAMP:20200301T162035
CREATED:20200108T060246Z
LAST-MODIFIED:20200206T235516Z
UID:10619-1581003000-1581021000@www.blackwoodgolf.com.au
SUMMARY:Twilight Golf and Jackpot Raffle
DESCRIPTION:
URL:https://www.blackwoodgolf.com.au/event/twilight-golf-and-jackpot-raffle-5/
END:VEVENT
END:VCALENDAR